BEGIN:VCALENDAR
PRODID:-//github.com/rianjs/ical.net//NONSGML ical.net 4.0//EN
VERSION:2.0
BEGIN:VTIMEZONE
TZID:Eastern Standard Time
X-LIC-LOCATION:America/New_York
BEGIN:STANDARD
DTSTART:20241103T020000
RRULE:FREQ=YEARLY;BYDAY=1SU;BYMONTH=11
TZNAME:EST
TZOFFSETFROM:-0400
TZOFFSETTO:-0500
END:STANDARD
BEGIN:DAYLIGHT
DTSTART:20250309T020000
RRULE:FREQ=YEARLY;BYDAY=2SU;BYMONTH=3
TZNAME:EDT
TZOFFSETFROM:-0500
TZOFFSETTO:-0400
END:DAYLIGHT
END:VTIMEZONE
BEGIN:VEVENT
DESCRIPTION:The Most Comprehensive and Effective CAE Prep Course on the Ma
 rket.
DTEND;TZID=Eastern Standard Time:20261123T170000
DTSTAMP:20260420T230908Z
DTSTART;TZID=Eastern Standard Time:20260810T150000
LOCATION:ZOOM
ORGANIZER;CN=;SENT-BY="mailto:":
SEQUENCE:0
SUMMARY:MSAE: 2026 Fall CAE Full Prep Course
UID:c7b02dd3-35ea-4192-92f3-13a310413412
END:VEVENT
END:VCALENDAR
