BEGIN:VCALENDAR
PRODID:-//github.com/rianjs/ical.net//NONSGML ical.net 4.0//EN
VERSION:2.0
BEGIN:VTIMEZONE
TZID:Eastern Standard Time
X-LIC-LOCATION:America/New_York
BEGIN:STANDARD
DTSTART:20241103T020000
RRULE:FREQ=YEARLY;BYDAY=1SU;BYMONTH=11
TZNAME:EST
TZOFFSETFROM:-0400
TZOFFSETTO:-0500
END:STANDARD
BEGIN:DAYLIGHT
DTSTART:20250309T020000
RRULE:FREQ=YEARLY;BYDAY=2SU;BYMONTH=3
TZNAME:EDT
TZOFFSETFROM:-0500
TZOFFSETTO:-0400
END:DAYLIGHT
END:VTIMEZONE
BEGIN:VEVENT
DTEND;TZID=Eastern Standard Time:20260520T130000
DTSTAMP:20260423T185426Z
DTSTART;TZID=Eastern Standard Time:20260520T100000
LOCATION:Sheraton Detroit Novi Hotel 21111 Haggerty Road Novi\, MI 48375 U
 nited States
ORGANIZER;CN=;SENT-BY="mailto:":
SEQUENCE:0
SUMMARY:MSAE: May Board of Directors Meeting
UID:a4227f06-8508-4bee-80e5-4600bc89815a
END:VEVENT
END:VCALENDAR
